BEGIN:VCALENDAR
VERSION:2.0
PRODID:-//Horizonte Factoría - ECPv6.2.4//NONSGML v1.0//EN
CALSCALE:GREGORIAN
METHOD:PUBLISH
X-WR-CALNAME:Horizonte Factoría
X-ORIGINAL-URL:https://horizontefactoria.com
X-WR-CALDESC:Eventos para Horizonte Factoría
REFRESH-INTERVAL;VALUE=DURATION:PT1H
X-Robots-Tag:noindex
X-PUBLISHED-TTL:PT1H
BEGIN:VTIMEZONE
TZID:Europe/Madrid
BEGIN:DAYLIGHT
TZOFFSETFROM:+0100
TZOFFSETTO:+0200
TZNAME:CEST
DTSTART:20230326T010000
END:DAYLIGHT
BEGIN:STANDARD
TZOFFSETFROM:+0200
TZOFFSETTO:+0100
TZNAME:CET
DTSTART:20231029T010000
END:STANDARD
BEGIN:DAYLIGHT
TZOFFSETFROM:+0100
TZOFFSETTO:+0200
TZNAME:CEST
DTSTART:20240331T010000
END:DAYLIGHT
BEGIN:STANDARD
TZOFFSETFROM:+0200
TZOFFSETTO:+0100
TZNAME:CET
DTSTART:20241027T010000
END:STANDARD
BEGIN:DAYLIGHT
TZOFFSETFROM:+0100
TZOFFSETTO:+0200
TZNAME:CEST
DTSTART:20250330T010000
END:DAYLIGHT
BEGIN:STANDARD
TZOFFSETFROM:+0200
TZOFFSETTO:+0100
TZNAME:CET
DTSTART:20251026T010000
END:STANDARD
END:VTIMEZONE
BEGIN:VEVENT
DTSTART;TZID=Europe/Madrid:20231219T091500
DTEND;TZID=Europe/Madrid:20231219T141500
DTSTAMP:20260421T220407
CREATED:20231024T150916Z
LAST-MODIFIED:20231218T162451Z
UID:4756-1702977300-1702995300@horizontefactoria.com
SUMMARY:Encuentro Anual de Innovación Abierta Industrial Horizonte Factoría
DESCRIPTION:El Encuentro Anual de Innovación abierta industrial Horizonte Factoría es el evento que cierra y culmina todo el ecosistema de innovación abierta industrial Horizonte Factoría. Esta Jornada\, que cumple su séptima edición\, es el evento culmen en el que por un lado queremos devolver a la sociedad y al tejido industrial los aprendizajes desarrollados en el Laboratorio a lo largo del año\, y por otro lado se intentan marcar o visibilizar las tendencias del sector que permitan ahondar más y facilitar más la innovación abierta en el tejido industrial español. \nEn esta ocasión el evento se centra sobre dos pilares\, por un lado la visibilización de las mejores prácticas de innovación abierta industrial en nuestro país y fuera de él\, por otro lado la importancia de la inversión y la financiación para lograr que la innovación abierta industrial pueda tener lugar. \nEn el primer bloque contaremos con la experiencia desarrollada tanto a nivel internacional como a nivel nacional. En el ámbito internacional contaremos con la presencia de un directivo europeo que ponga de manifiesto tanto las tendencias internacionales en la creación de ecosistemas de innovación abierta industrial\, como las oportunidades de financiación e inversión europeas para este sector. En el ámbito nacional contaremos con las experiencias de los ecosistemas más potentes en innovación abierta industrial de España como son el ecosistema vasco y catalán. Todo ello confluirá en un espacio conjunto de conversación abierta con el público orientado a esponjar todos los aprendizajes. \nEn el segundo bloque contaremos con una dimensión más didáctica. Cuáles son los diferentes mecanismos de inversión y de financiación de la innovación en general y de la innovación abierta en particular\, para dar voz a los diferentes agentes de inversión y financiación que puedan dialogar con el público sobre estos determinantes aspectos. \nLa jornada termina con la visibilización concreta de esa innovación abierta industrial. Por un lado de la mano de industrias relevantes que están innovando con diferentes partes de su cadena de valor\, llevando sus procesos de innovación abierta más allá de la provisión de servicios por terceros. Por otro lado contaremos con testimonio de startup que pondrá de manifiesto los aprendizajes que además de la provisión del servicio\, llevan a cabo los procesos de innovación abierta en quienes lo desarrollan. \n\nPrograma\n9:15.- Presentación de autoridades. \nBeatriz Arraibi. Directora de Comunicación Grupo Init. \nCarlos Piñeyroa. Director de Conversaciones e Innovación Abierta Grupo Init. \nJoseba Goicoechea. Director BStartup Banco Sabadell en DT Norte \nMar Vaquero Perianez. Vicepresidenta Segunda y Consejera de Economía\, Empleo e Industria del Gobierno de Aragón \nCarlos Gimeno Casado. Consejero de Economía\, Transformación Digital y Transparencia del Ayuntamiento de Zaragoza \nMaría Jesús Lorente. Presidenta de Cepyme Aragón \n9:45.- Innovación abierta industrial internacional.\nUE: Manuel Mendigutia. Senior Strategy adviser & Programme coordinator en European Innovation Council – European Commission \nFrancia: Sebastián Álvarez. Cámara de Comercio Franco Española. \n10:25.- Innovación abierta industrial en España. Ecosistemas exitosos\nEuskadi (SPRI). Aitor Cobanera. Director de Promoción Empresarial de SPRI. \nCataluña (Acció). Albert Torruella. Consultor Senior ACCIÖ Corporate Open innovation. \nEspaña. (EOI). Fernando Garrido. Director EOI Mediterraneo \nModera\, Arantza Saez de Okariz\, Consultora de Innovación Abierta y de Horizonte Factoría. \n11:45.- Coffee Break\n12:15.- Financiación e inversión de la innovación abierta industrial.\nJoseba Goicoechea. Director BStartup Banco Sabadell en DT Norte \nSergio San Agustín. Investment Director en Clave Capital \nCarolina Rodríguez  Responsable de Promoción en Spain Up Nation Enisa \nModera\, Romy Piñeyroa. Economista\, Gerente de CIEM Zaragoza y Coordinadora en Aragón de Horizonte Factoría. \n13:15.- Casos de éxito de la innovación abierta industrial en España.\nSergio Santo Domingo. Director Innovación Fersa Bearings y\, \nAinhoa Jausoro. Responsable de desarrollo de negocio en Inalia Innovación y Desarrollo. \nModera\, Yolanda Bravo. Vocal de la junta directiva del COIIAR Colegio oficial de Ingenieros Industriales de Aragón y La Rioja \n14:15.- Clausura\nCarlos Piñeyroa. Director de Conversaciones e Innovación Abierta Grupo Init. \n\nHorizonte Factoría se enmarca en la estrategia Spain Up Nation y ha sido financiada por la Unión Europea-Next Generation EU y el Plan de Recuperación\, Transformación y Resiliencia; y apoyado por el Ministerio de Industria\, Comercio y Turismo y la Escuela de Organización Industrial. Programa Impulso del Ecosistema Emprendedor Innovador (PIEEI)
URL:https://horizontefactoria.com/evento/encuentro-anual-de-innovacion-abierta-industrial-horizonte-factoria/
LOCATION:Etopia\, Av. de la Cdad. de Soria\, 8\, Zaragoza\, Zaragoza\, 50003\, España
CATEGORIES:2023
ATTACH;FMTTYPE=image/jpeg:https://horizontefactoria.com/wp-content/uploads/2023/10/cab_HF23.jpg
ORGANIZER;CN="Horizonte Factor%C3%ADa":MAILTO:ines@ciemzaragoza.es
END:VEVENT
BEGIN:VEVENT
DTSTART;TZID=Europe/Madrid:20250227T110000
DTEND;TZID=Europe/Madrid:20250227T140000
DTSTAMP:20260421T220407
CREATED:20250127T094631Z
LAST-MODIFIED:20250226T153513Z
UID:6098-1740654000-1740664800@horizontefactoria.com
SUMMARY:VIII Encuentro Anual de Innovación Abierta Industrial Horizonte Factoría
DESCRIPTION:El Encuentro Anual de Innovación Abierta Industrial Horizonte Factoría se consolida como el evento clave que culmina el ecosistema de innovación abierta industrial de Horizonte Factoría. El 27 de febrero\, en su octava edición\, esta jornada se presenta como un espacio único de aprendizaje y reflexión\, devolviendo a la sociedad todo lo que está ocurriendo en materia de innovación abierta en este ámbito\, al mismo tiempo que se visibilizan las tendencias que definirán el futuro del sector. \nEste año\, el evento gira en torno a dos pilares fundamentales: \n\nVisibilizar tecnologías innovadoras en el sector industrial.\nPresentación de programas de inversión y financiación dirigidos a potenciar la industria.\n\nEn el primer bloque\, se explorarán las tecnologías más avanzadas y transformadoras que están revolucionando la industria. Los asistentes tendrán la oportunidad de conocer casos de éxito\, y descubrir cómo estas soluciones están optimizando procesos\, aumentando la productividad y promoviendo la sostenibilidad. Entre las tecnologías destacadas se abordarán la realidad virtual\, el Internet de las Cosas (IoT)\, la inteligencia artificial\, y la impresión 3D\, así como su influencia en los modelos de negocio actuales. Además\, se incluirán perspectivas tanto de la startups /pymes tecnológicas que están aportando la tecnología como de la empresa industrial que la implementa\, ofreciendo una visión integral de cómo estas innovaciones están mejorando la competitividad del sector. \nEl segundo bloque se enfoca en proporcionar una perspectiva práctica sobre los diferentes mecanismos de inversión y financiación disponibles para impulsar la innovación\, especialmente la innovación abierta. Representantes de instituciones y agentes clave del ámbito industrial y financiero compartirán sus conocimientos y dialogarán con el público sobre las estrategias más efectivas para apoyar el crecimiento y la transformación del tejido industrial. \nEste espacio tiene como objetivo no solo informar\, sino también conectar a los actores del ecosistema con oportunidades concretas que faciliten el desarrollo del sector. \nPrograma\n11h – 11:05h: Apertura institucional. Mar Paños. Directora General de Promoción Industrial e Innovación del Gobierno de Aragón. \n11:05h – 11:15h: Presentación de Horizonte Factoría. \n\nRomy Piñeyroa. Grupo Init.\nJoseba Goicoechea. Bstartup Banco Sabadell\n\n11:15h – 11:30h: Entrevista dual tecnología industria. IA \n\nJavier Orús Lacort\, director y Co-Fundador\, PredictLand\nGermán Sacramento García\, head of Machine Learning\, Alimak Group.\n\n11:30h – 11:45h:  Presentación Cámara de Comercio. Esther Tejido Bravo. Jefa de Servicio de Emprendimiento y Pymes. \n11:45h a 12:00h:  Entrevista dual tecnología industria. Aditiva \n\nMarta Burillo\, fundadora\, Moso 3D\nJuan Antonio Díaz\, director general Adjunto en Asai\n\n12:00h- 12:15h: Presentación IAF. Pedro Pardo. Director de la División de Desarrollo e Innovación Empresarial del IAF \n12:15h -12:30h: Entrevista dual tecnología industria. IoT \n\nBenjamín Bentura\, socio cofundador y responsable de I+D+i e Ingeniería\, Nexio\nMiguel Ángel Martínez. FerroBio Group\n\n12:30h – 12:45h: Presentación EOI. Fernando Garrido\, Director del Área Programas Públicos. «Apoyo a la innovación de las pymes industriales con los fondos NextGenerationEU» \n12:45h – 13:00h: Entrevista dual tecnología industria. Realidad Virtual \n\nÁlvaro Monzón Blanco. CEO y cofundador. Deusens\nCecilia Jordán García. Business Development Manager Industry 4.0. Teltronic\n\n13:00 – 13:15h: Presentación CEOE Aragón. Carolina Álvarez. Directora oficina Acelera Pyme CEOE Aragón. \n13:15h – 13:30h. Cierre Jornada \n13:30h Networking \n﻿Cargando…
URL:https://horizontefactoria.com/evento/viii-encuentro-anual-de-innovacion-abierta-industrial-horizonte-factoria/
LOCATION:Etopia\, Av. de la Cdad. de Soria\, 8\, Zaragoza\, Zaragoza\, 50003\, España
CATEGORIES:2025
ATTACH;FMTTYPE=image/png:https://horizontefactoria.com/wp-content/uploads/2025/01/HF-GRAL-25_v3-25.png
ORGANIZER;CN="Horizonte Factor%C3%ADa- Grupo Init":MAILTO:asaezdeokariz@theinit.com
END:VEVENT
END:VCALENDAR