BEGIN:VCALENDAR
VERSION:2.0
PRODID:-//Horizonte Factoría - ECPv6.2.4//NONSGML v1.0//EN
CALSCALE:GREGORIAN
METHOD:PUBLISH
X-ORIGINAL-URL:https://horizontefactoria.com
X-WR-CALDESC:Eventos para Horizonte Factoría
REFRESH-INTERVAL;VALUE=DURATION:PT1H
X-Robots-Tag:noindex
X-PUBLISHED-TTL:PT1H
BEGIN:VTIMEZONE
TZID:Europe/Madrid
BEGIN:DAYLIGHT
TZOFFSETFROM:+0100
TZOFFSETTO:+0200
TZNAME:CEST
DTSTART:20230326T010000
END:DAYLIGHT
BEGIN:STANDARD
TZOFFSETFROM:+0200
TZOFFSETTO:+0100
TZNAME:CET
DTSTART:20231029T010000
END:STANDARD
BEGIN:DAYLIGHT
TZOFFSETFROM:+0100
TZOFFSETTO:+0200
TZNAME:CEST
DTSTART:20240331T010000
END:DAYLIGHT
BEGIN:STANDARD
TZOFFSETFROM:+0200
TZOFFSETTO:+0100
TZNAME:CET
DTSTART:20241027T010000
END:STANDARD
BEGIN:DAYLIGHT
TZOFFSETFROM:+0100
TZOFFSETTO:+0200
TZNAME:CEST
DTSTART:20250330T010000
END:DAYLIGHT
BEGIN:STANDARD
TZOFFSETFROM:+0200
TZOFFSETTO:+0100
TZNAME:CET
DTSTART:20251026T010000
END:STANDARD
END:VTIMEZONE
BEGIN:VEVENT
DTSTART;TZID=Europe/Madrid:20230914T120000
DTEND;TZID=Europe/Madrid:20230914T133000
DTSTAMP:20260421T182503
CREATED:20231024T144021Z
LAST-MODIFIED:20231103T090940Z
UID:4740-1694692800-1694698200@horizontefactoria.com
SUMMARY:Jornada Café Industrial Horizonte Factoría Walqa Huesca
DESCRIPTION:Horizonte Factoría\, el Laboratorio de Innovación Abierta Industrial de Grupo Init y Bstartup de Banco Sabadell\, celebra en colaboración con el Parque Tecnológico Walqa\, Cámara de Comercio de Huesca\, CEOE-CEPYME Huesca y de la mano de Amazon Web Services\, un nuevo Café Encuentro de Innovación abierta industrial\, para devolver al tejido industrial los aprendizajes generados en los diferentes retos de innovación abierta industrial desarrollados durante el año. \nEl Laboratorio de Innovación Abierta Industrial Horizonte Factoría se ha convertido\, sin duda\, en el referente de innovación abierta industrial en España. Tras seis años de existencia más de diez empresas aragonesas han posicionado sus retos de innovación industriales a los que se han presentado más de 150 startups de toda España. \nLa diferencia esencial de Horizonte Factoría con otros programas de innovación abierta industrial es que en Horizonte Factoría siempre se finaliza con un contrato entre industria y startup en el que ésta da respuesta con una propuesta técnica y económica real a la necesidad u oportunidad de la industria. Nada de aceleración\, nada de formación o mentorizaje… Directamente un contrato que satisface a ambas partes. \nSi quieres conocer de primera mano qué puede ofrecer Horizonte Factoría a tu industria\, esta es tu oportunidad. \n  \nPrograma \n12.00 Presentación autoridades. Dª Mar Paños. Directora  General de Industria del Gobierno de Aragón. Dª Belén Almudevar. Concejala de Economía\, Atracción de Inversores\, Fondos Europeos e Innovación. \n12.15 Qué es y cómo funciona el Laboratorio de Innovación abierta industrial Horizonte Factoría. Carlos Piñeyroa Director de Conversaciones e Innovación abierta Grupo Init. \n12.30 Industria: Hiab Cranes. Cómo llega\, cómo participa y cómo consigue realizar el reto de innovación de la mano de la startup Lis Data Solutions. José Miguel Paz Peñuelas. Director de Planta en Hiab Cranes España. \n13.00 Startup: Predictland. Qué le motiva a participar\, qué dificultades y qué oportunidades tuvo al dar respuesta al reto de la industria Certest Biotech. Javier Orús Lascort. Director y fundador. \n13.30 Networking y ágape \n  \n\n\n\n\n\nHorizonte Factoría se enmarca en la estrategia Spain Up Nation y ha sido financiada por la Unión Europea-Next Generation EU y el Plan de Recuperación\, Transformación y Resiliencia; y apoyado por el Ministerio de Industria\, Comercio y Turismo y EOI\,
URL:https://horizontefactoria.com/evento/jornada-cafe-industrial-horizonte-factoria-walqa-huesca/
LOCATION:Parque Tecnológico Walqa\, Ctra. Zaragoza-Huesca\, Km 566\, Cuarte\, Huesca\, 22197\, España
CATEGORIES:2023
ATTACH;FMTTYPE=image/png:https://horizontefactoria.com/wp-content/uploads/2023/10/Innovacion-Abierta-Industrial-Huesca.png
ORGANIZER;CN="Horizonte Factor%C3%ADa":MAILTO:ines@ciemzaragoza.es
END:VEVENT
BEGIN:VEVENT
DTSTART;TZID=Europe/Madrid:20231110T110000
DTEND;TZID=Europe/Madrid:20231110T130000
DTSTAMP:20260421T182503
CREATED:20231016T102324Z
LAST-MODIFIED:20231103T090940Z
UID:4684-1699614000-1699621200@horizontefactoria.com
SUMMARY:Jornada de Innovación Abierta Industrial DUO
DESCRIPTION:Horizonte Factoría\, el Laboratorio de Innovación Abierta Industrial de Grupo Init y BStartup de Banco Sabadell\, organiza la Jornada de Innovación Abierta Industrial DUO el próximo 10 de noviembre a las 11.00hrs en el Centro Tecnológico y de Investigación AITIIP bajo el lema de la Industria 4.0\, la Economía Circular y la Sostenibilidad. \nLa Jornada DUO contará en primer lugar con una masterclass “Aitiip 3D\, el laboratorio 3D más versátil de Europa… y está en Aragón”\, impartida por Pablo Murillo\, Director de Desarrollo de Negocio de AITIIP en la que dará a conocer el laboratorio de fabricación aditiva industrial 4.0 más versátil de Europa\, para satisfacer las nuevas necesidades de las pymes y las grandes empresas. La impresión 3D ya no es solo prototipado\, ahora también es producto final. \nEn segundo lugar\, tendrá lugar un showroom de los diferente procesos desarrollados en el ámbito de la economía circular que desarrolla el Centro Tecnológico y de Investigación AITIIP de la mano de José Miguel Fernández\, Responsable de Proyectos Nacionales de Aitiip. \nAitiip es un centro tecnológico altamente especializado en el procesado del plástico y la fabricación de moldes que transfiere conocimiento tecnológico a las empresas que buscan mejorar su competitividad y fortalecer sus capacidades de innovación y desarrollo. \nCon este objetivo\, Aitiip ha participado en los últimos 20 años en más de 140 proyectos de investigación y desarrollo vinculados a la transición verde y digital\, a la economía circular\, al desarrollo de nuevos materiales y procesos de reciclaje más eficientes y a la fabricación avanzada\, la industria 4.0 y la robótica. \nEsta vibrante actividad investigadora ha dado como resultado 11 patentes y la posibilidad de transferir el conocimiento adquirido a más de 144 proyectos industriales. \nAdemás\, ofrece su experiencia\, capacidades\, compromiso con la sostenibilidad y el equipamiento más avanzado a iniciativas para mejorar la industria y la sociedad. \nEl encuentro de la Jornada DUO terminará con un networking dirigido para poder conectar con el resto de los asistentes. \nPrograma:\n11.00 Presentación de autoridades\n11.05 Presentación de la Jornada de Innovación Abierta Industrial DUO de Horizonte Factoría\n11.15 Masterclass: Aitiip 3D\, el laboratorio 3D más versátil de Europa… y está en Aragón\, por Pablo Murillo\, Director de Desarrollo de Negocio de AITIIP.\n11.45 Presentación del Centro Tecnológico y de Investigación AITIIP por José Miguel Fernández\, Responsable de Proyectos Nacionales de AITIIP.\n12.00 Showroom: Aitiip\, dos décadas fabricando el futuro por José Miguel Fernández\, Responsable de Proyectos Nacionales de AITIIP.\n13.00 Networking \n  \n\n\n\n\n\nHorizonte Factoría se enmarca en la estrategia Spain Up Nation y ha sido financiada por la Unión Europea-Next Generation EU y el Plan de Recuperación\, Transformación y Resiliencia; y apoyado por el Ministerio de Industria\, Comercio y Turismo y EOI
URL:https://horizontefactoria.com/evento/jornada-de-innovacion-abierta-industrial-duo/
LOCATION:AITIIP – Centro Tecnológico y de Investigación\, Polígono Industrial Empresarium\, C. del Romero\, 12\, Cartuja Baja\, Zaragoza\, 50720\, España
CATEGORIES:2023
ATTACH;FMTTYPE=image/jpeg:https://horizontefactoria.com/wp-content/uploads/2023/10/Banner-HF-DUO.jpg
ORGANIZER;CN="Horizonte Factor%C3%ADa":MAILTO:ines@ciemzaragoza.es
END:VEVENT
BEGIN:VEVENT
DTSTART;TZID=Europe/Madrid:20231123T170000
DTEND;TZID=Europe/Madrid:20231123T183000
DTSTAMP:20260421T182503
CREATED:20231024T145225Z
LAST-MODIFIED:20231122T122651Z
UID:4745-1700758800-1700764200@horizontefactoria.com
SUMMARY:Jornada Horizonte Factoría Euskadi
DESCRIPTION:En el centro de la Comunidad Autónoma por excelencia innovadora en materia de industria\, se abre el espacio para dar a conocer Horizonte Factoría\, el Laboratorio de Innovación abierta industrial\, con el objetivo de cubrir el espacio que otros programas de enorme interés como Bind4.0 desarrollan ya en la comunidad. \nDe la mano de Ismark®\, agencia de inbound marketing especializada en aumentar las oportunidades en el sector industrial\, tendrá lugar una jornada en la que sobre todo se hablará de innovación centrada en la industria. Qué funciona o ha funcionado\, y qué es posible mejorar en el ecosistema de innovación abierta industrial vasco. Para ello contaremos con referentes de innovación abierta tanto en Euskadi como fuera de ella\, con el objetivo de abrir el ámbito de actuación más allá de la comunidad vasca. \nPrograma\n17:00.- Apertura institucional a cargo de Javier Garcinuño\, Director General de Bilbao Ekintza\, Agencia de Desarrollo del Ayuntamiento de Bilbao. \n17:05.- Presentación. Qué es y cómo funciona el Laboratorio de Innovación abierta industrial Horizonte Factoría\, de la mano de Beatriz Arraibi\, Directora de Comunicación de Grupo Init. \n17:15.- Charla sobre Innovación en los modelos de negocio de la mano de Iñigo Garay\, Responsable de Innovación de Cikautxo \n17:45.- Hablando con la industria:  Mesa Coloquio: Cuáles son los retos de la industria y la manera de afrontarlos desde diferentes perspectivas. Impulso de los procesos de innovación abierta en las organizaciones y la transformación digital. De la mano de Abel Ramos\, Director de la Delegación Cartagena-Levante de Duro Felguera; Iñigo Garay\, Responsable de Innovación de Cikautxo\, y Carlos Piñeyroa\, Director de Conversaciones e Innovación Abierta en Grupo Init. Modera: Ainhoa Gómez\, fundadora de ISMARK®\, Agencia certificada por HubSpot como expertos en Inbound Marketing\, dirigida a la industria. \n18:25.- Despedida y cierre. \n18:30.-  Networking. \n  \n\n\n\n\n\nHorizonte Factoría se enmarca en la estrategia Spain Up Nation y ha sido financiada por la Unión Europea-Next Generation EU y el Plan de Recuperación\, Transformación y Resiliencia; y apoyado por el Ministerio de Industria\, Comercio y Turismo y EOI\,
URL:https://horizontefactoria.com/evento/jornada-cafe-industrial-horizonte-factoria-euskadi/
LOCATION:Bilbao Berrikuntza Faktoria – BBF\, Calle Uribitarte 6 y Paseo Uribitarte 3\, Bilbao\, Bizkaia\, 48001\, España
CATEGORIES:2023
ATTACH;FMTTYPE=image/png:https://horizontefactoria.com/wp-content/uploads/2023/10/Innovacion-Abierta-Industrial-Euskadi-1.png
ORGANIZER;CN="Horizonte Factor%C3%ADa- Grupo Init":MAILTO:asaezdeokariz@theinit.com
END:VEVENT
BEGIN:VEVENT
DTSTART;TZID=Europe/Madrid:20231124T110000
DTEND;TZID=Europe/Madrid:20231124T133000
DTSTAMP:20260421T182503
CREATED:20231024T150301Z
LAST-MODIFIED:20231114T152550Z
UID:4751-1700823600-1700832600@horizontefactoria.com
SUMMARY:Jornada Café Industrial Horizonte Factoría La Rioja
DESCRIPTION:Horizonte Factoría\, el Laboratorio de Innovación Abierta Industrial de Grupo Init y Bstartup de Banco Sabadell\, celebra en colaboración con The Wick  un nuevo Café Encuentro de Innovación abierta industrial\, para dar a conocer al tejido industrial y emprendedor de La Rioja todas las oportunidades que ofrece la innovación abierta en general y la innovación abierta industrial en particular. \nEl Laboratorio de Innovación Abierta Industrial Horizonte Factoría se ha convertido\, sin duda\, en uno de los referentes de innovación abierta industrial en España. Tras seis años de existencia más de diez empresas aragonesas han posicionado sus retos de innovación industriales a los que se han presentado más de 150 startups de toda España. Ahora es el momento de expandir esta buena práctica en otras comunidades autónomas y suscitar el interés por la innovación abierta industrial\, y lo hacemos de la mano de un partner asentado en el mundo del emprendimiento riojano como es The Wick. \nLa diferencia esencial de Horizonte Factoría con otros programas de innovación abierta industrial es que en Horizonte Factoría siempre se finaliza con un contrato entre industria y startup en el que ésta da respuesta con una propuesta técnica y económica real a la necesidad u oportunidad de la industria. Nada de aceleración\, nada de formación o mentorizaje… Directamente un contrato que satisface a ambas partes. \nSi quieres conocer de primera mano qué puede ofrecer Horizonte Factoría a tu industria\, esta es tu oportunidad. \n  \nPrograma \n  \n11:00.- Apertura del evento \n11:05.- Innovación abierta. Qué es\, beneficios para las empresas y para las startups\, tendencias\, casos de éxito. Carlos Piñeyroa Director de Conversaciones e innovación abierta Grupo Init. \n11:35.- Experiencia 1 – The Circular Lab\, José Luis Moreno\, Gerente Innovación TheCircularLab \n12:00.- Experiencia 2 – AEIRioja\, Daniel Rueda\, Secretario General AEI automoción Rioja \n12:25.- Programas de innovación abierta – Ejemplo práctico – Programa Horizonte Factoría (Carlos Piñeyroa. Director de Conversaciones e Innovación abierta Grupo Init \n13:10.- Café y networking \n  \n\n\n\n\n\nHorizonte Factoría se enmarca en la estrategia Spain Up Nation y ha sido financiada por la Unión Europea-Next Generation EU y el Plan de Recuperación\, Transformación y Resiliencia; y apoyado por el Ministerio de Industria\, Comercio y Turismo y EOI\,
URL:https://horizontefactoria.com/evento/jornada-cafe-industrial-horizonte-factoria-la-rioja/
LOCATION:The Circular Lab\, Parque Municipal de Jardinería\, Carretera del Cristo\, 15\, Logroño\, La Rioja\, 26005\, España
CATEGORIES:2023
ATTACH;FMTTYPE=image/png:https://horizontefactoria.com/wp-content/uploads/2023/10/bannerHF-LARIOJA_v6.png
ORGANIZER;CN="Horizonte Factor%C3%ADa":MAILTO:ines@ciemzaragoza.es
END:VEVENT
BEGIN:VEVENT
DTSTART;TZID=Europe/Madrid:20231219T091500
DTEND;TZID=Europe/Madrid:20231219T141500
DTSTAMP:20260421T182503
CREATED:20231024T150916Z
LAST-MODIFIED:20231218T162451Z
UID:4756-1702977300-1702995300@horizontefactoria.com
SUMMARY:Encuentro Anual de Innovación Abierta Industrial Horizonte Factoría
DESCRIPTION:El Encuentro Anual de Innovación abierta industrial Horizonte Factoría es el evento que cierra y culmina todo el ecosistema de innovación abierta industrial Horizonte Factoría. Esta Jornada\, que cumple su séptima edición\, es el evento culmen en el que por un lado queremos devolver a la sociedad y al tejido industrial los aprendizajes desarrollados en el Laboratorio a lo largo del año\, y por otro lado se intentan marcar o visibilizar las tendencias del sector que permitan ahondar más y facilitar más la innovación abierta en el tejido industrial español. \nEn esta ocasión el evento se centra sobre dos pilares\, por un lado la visibilización de las mejores prácticas de innovación abierta industrial en nuestro país y fuera de él\, por otro lado la importancia de la inversión y la financiación para lograr que la innovación abierta industrial pueda tener lugar. \nEn el primer bloque contaremos con la experiencia desarrollada tanto a nivel internacional como a nivel nacional. En el ámbito internacional contaremos con la presencia de un directivo europeo que ponga de manifiesto tanto las tendencias internacionales en la creación de ecosistemas de innovación abierta industrial\, como las oportunidades de financiación e inversión europeas para este sector. En el ámbito nacional contaremos con las experiencias de los ecosistemas más potentes en innovación abierta industrial de España como son el ecosistema vasco y catalán. Todo ello confluirá en un espacio conjunto de conversación abierta con el público orientado a esponjar todos los aprendizajes. \nEn el segundo bloque contaremos con una dimensión más didáctica. Cuáles son los diferentes mecanismos de inversión y de financiación de la innovación en general y de la innovación abierta en particular\, para dar voz a los diferentes agentes de inversión y financiación que puedan dialogar con el público sobre estos determinantes aspectos. \nLa jornada termina con la visibilización concreta de esa innovación abierta industrial. Por un lado de la mano de industrias relevantes que están innovando con diferentes partes de su cadena de valor\, llevando sus procesos de innovación abierta más allá de la provisión de servicios por terceros. Por otro lado contaremos con testimonio de startup que pondrá de manifiesto los aprendizajes que además de la provisión del servicio\, llevan a cabo los procesos de innovación abierta en quienes lo desarrollan. \n\nPrograma\n9:15.- Presentación de autoridades. \nBeatriz Arraibi. Directora de Comunicación Grupo Init. \nCarlos Piñeyroa. Director de Conversaciones e Innovación Abierta Grupo Init. \nJoseba Goicoechea. Director BStartup Banco Sabadell en DT Norte \nMar Vaquero Perianez. Vicepresidenta Segunda y Consejera de Economía\, Empleo e Industria del Gobierno de Aragón \nCarlos Gimeno Casado. Consejero de Economía\, Transformación Digital y Transparencia del Ayuntamiento de Zaragoza \nMaría Jesús Lorente. Presidenta de Cepyme Aragón \n9:45.- Innovación abierta industrial internacional.\nUE: Manuel Mendigutia. Senior Strategy adviser & Programme coordinator en European Innovation Council – European Commission \nFrancia: Sebastián Álvarez. Cámara de Comercio Franco Española. \n10:25.- Innovación abierta industrial en España. Ecosistemas exitosos\nEuskadi (SPRI). Aitor Cobanera. Director de Promoción Empresarial de SPRI. \nCataluña (Acció). Albert Torruella. Consultor Senior ACCIÖ Corporate Open innovation. \nEspaña. (EOI). Fernando Garrido. Director EOI Mediterraneo \nModera\, Arantza Saez de Okariz\, Consultora de Innovación Abierta y de Horizonte Factoría. \n11:45.- Coffee Break\n12:15.- Financiación e inversión de la innovación abierta industrial.\nJoseba Goicoechea. Director BStartup Banco Sabadell en DT Norte \nSergio San Agustín. Investment Director en Clave Capital \nCarolina Rodríguez  Responsable de Promoción en Spain Up Nation Enisa \nModera\, Romy Piñeyroa. Economista\, Gerente de CIEM Zaragoza y Coordinadora en Aragón de Horizonte Factoría. \n13:15.- Casos de éxito de la innovación abierta industrial en España.\nSergio Santo Domingo. Director Innovación Fersa Bearings y\, \nAinhoa Jausoro. Responsable de desarrollo de negocio en Inalia Innovación y Desarrollo. \nModera\, Yolanda Bravo. Vocal de la junta directiva del COIIAR Colegio oficial de Ingenieros Industriales de Aragón y La Rioja \n14:15.- Clausura\nCarlos Piñeyroa. Director de Conversaciones e Innovación Abierta Grupo Init. \n\nHorizonte Factoría se enmarca en la estrategia Spain Up Nation y ha sido financiada por la Unión Europea-Next Generation EU y el Plan de Recuperación\, Transformación y Resiliencia; y apoyado por el Ministerio de Industria\, Comercio y Turismo y la Escuela de Organización Industrial. Programa Impulso del Ecosistema Emprendedor Innovador (PIEEI)
URL:https://horizontefactoria.com/evento/encuentro-anual-de-innovacion-abierta-industrial-horizonte-factoria/
LOCATION:Etopia\, Av. de la Cdad. de Soria\, 8\, Zaragoza\, Zaragoza\, 50003\, España
CATEGORIES:2023
ATTACH;FMTTYPE=image/jpeg:https://horizontefactoria.com/wp-content/uploads/2023/10/cab_HF23.jpg
ORGANIZER;CN="Horizonte Factor%C3%ADa":MAILTO:ines@ciemzaragoza.es
END:VEVENT
BEGIN:VEVENT
DTSTART;TZID=Europe/Madrid:20250227T110000
DTEND;TZID=Europe/Madrid:20250227T140000
DTSTAMP:20260421T182503
CREATED:20250127T094631Z
LAST-MODIFIED:20250226T153513Z
UID:6098-1740654000-1740664800@horizontefactoria.com
SUMMARY:VIII Encuentro Anual de Innovación Abierta Industrial Horizonte Factoría
DESCRIPTION:El Encuentro Anual de Innovación Abierta Industrial Horizonte Factoría se consolida como el evento clave que culmina el ecosistema de innovación abierta industrial de Horizonte Factoría. El 27 de febrero\, en su octava edición\, esta jornada se presenta como un espacio único de aprendizaje y reflexión\, devolviendo a la sociedad todo lo que está ocurriendo en materia de innovación abierta en este ámbito\, al mismo tiempo que se visibilizan las tendencias que definirán el futuro del sector. \nEste año\, el evento gira en torno a dos pilares fundamentales: \n\nVisibilizar tecnologías innovadoras en el sector industrial.\nPresentación de programas de inversión y financiación dirigidos a potenciar la industria.\n\nEn el primer bloque\, se explorarán las tecnologías más avanzadas y transformadoras que están revolucionando la industria. Los asistentes tendrán la oportunidad de conocer casos de éxito\, y descubrir cómo estas soluciones están optimizando procesos\, aumentando la productividad y promoviendo la sostenibilidad. Entre las tecnologías destacadas se abordarán la realidad virtual\, el Internet de las Cosas (IoT)\, la inteligencia artificial\, y la impresión 3D\, así como su influencia en los modelos de negocio actuales. Además\, se incluirán perspectivas tanto de la startups /pymes tecnológicas que están aportando la tecnología como de la empresa industrial que la implementa\, ofreciendo una visión integral de cómo estas innovaciones están mejorando la competitividad del sector. \nEl segundo bloque se enfoca en proporcionar una perspectiva práctica sobre los diferentes mecanismos de inversión y financiación disponibles para impulsar la innovación\, especialmente la innovación abierta. Representantes de instituciones y agentes clave del ámbito industrial y financiero compartirán sus conocimientos y dialogarán con el público sobre las estrategias más efectivas para apoyar el crecimiento y la transformación del tejido industrial. \nEste espacio tiene como objetivo no solo informar\, sino también conectar a los actores del ecosistema con oportunidades concretas que faciliten el desarrollo del sector. \nPrograma\n11h – 11:05h: Apertura institucional. Mar Paños. Directora General de Promoción Industrial e Innovación del Gobierno de Aragón. \n11:05h – 11:15h: Presentación de Horizonte Factoría. \n\nRomy Piñeyroa. Grupo Init.\nJoseba Goicoechea. Bstartup Banco Sabadell\n\n11:15h – 11:30h: Entrevista dual tecnología industria. IA \n\nJavier Orús Lacort\, director y Co-Fundador\, PredictLand\nGermán Sacramento García\, head of Machine Learning\, Alimak Group.\n\n11:30h – 11:45h:  Presentación Cámara de Comercio. Esther Tejido Bravo. Jefa de Servicio de Emprendimiento y Pymes. \n11:45h a 12:00h:  Entrevista dual tecnología industria. Aditiva \n\nMarta Burillo\, fundadora\, Moso 3D\nJuan Antonio Díaz\, director general Adjunto en Asai\n\n12:00h- 12:15h: Presentación IAF. Pedro Pardo. Director de la División de Desarrollo e Innovación Empresarial del IAF \n12:15h -12:30h: Entrevista dual tecnología industria. IoT \n\nBenjamín Bentura\, socio cofundador y responsable de I+D+i e Ingeniería\, Nexio\nMiguel Ángel Martínez. FerroBio Group\n\n12:30h – 12:45h: Presentación EOI. Fernando Garrido\, Director del Área Programas Públicos. «Apoyo a la innovación de las pymes industriales con los fondos NextGenerationEU» \n12:45h – 13:00h: Entrevista dual tecnología industria. Realidad Virtual \n\nÁlvaro Monzón Blanco. CEO y cofundador. Deusens\nCecilia Jordán García. Business Development Manager Industry 4.0. Teltronic\n\n13:00 – 13:15h: Presentación CEOE Aragón. Carolina Álvarez. Directora oficina Acelera Pyme CEOE Aragón. \n13:15h – 13:30h. Cierre Jornada \n13:30h Networking \n﻿Cargando…
URL:https://horizontefactoria.com/evento/viii-encuentro-anual-de-innovacion-abierta-industrial-horizonte-factoria/
LOCATION:Etopia\, Av. de la Cdad. de Soria\, 8\, Zaragoza\, Zaragoza\, 50003\, España
CATEGORIES:2025
ATTACH;FMTTYPE=image/png:https://horizontefactoria.com/wp-content/uploads/2025/01/HF-GRAL-25_v3-25.png
ORGANIZER;CN="Horizonte Factor%C3%ADa- Grupo Init":MAILTO:asaezdeokariz@theinit.com
END:VEVENT
END:VCALENDAR